BEGIN:VCALENDAR
VERSION:2.0
PRODID:-//Southwick Camera Club - ECPv6.15.20//NONSGML v1.0//EN
CALSCALE:GREGORIAN
METHOD:PUBLISH
X-WR-CALNAME:Southwick Camera Club
X-ORIGINAL-URL:https://southwickcameraclub.co.uk
X-WR-CALDESC:Events for Southwick Camera Club
REFRESH-INTERVAL;VALUE=DURATION:PT1H
X-Robots-Tag:noindex
X-PUBLISHED-TTL:PT1H
BEGIN:VTIMEZONE
TZID:Europe/London
BEGIN:DAYLIGHT
TZOFFSETFROM:+0000
TZOFFSETTO:+0100
TZNAME:BST
DTSTART:20240331T010000
END:DAYLIGHT
BEGIN:STANDARD
TZOFFSETFROM:+0100
TZOFFSETTO:+0000
TZNAME:GMT
DTSTART:20241027T010000
END:STANDARD
BEGIN:DAYLIGHT
TZOFFSETFROM:+0000
TZOFFSETTO:+0100
TZNAME:BST
DTSTART:20250330T010000
END:DAYLIGHT
BEGIN:STANDARD
TZOFFSETFROM:+0100
TZOFFSETTO:+0000
TZNAME:GMT
DTSTART:20251026T010000
END:STANDARD
BEGIN:DAYLIGHT
TZOFFSETFROM:+0000
TZOFFSETTO:+0100
TZNAME:BST
DTSTART:20260329T010000
END:DAYLIGHT
BEGIN:STANDARD
TZOFFSETFROM:+0100
TZOFFSETTO:+0000
TZNAME:GMT
DTSTART:20261025T010000
END:STANDARD
END:VTIMEZONE
BEGIN:VEVENT
DTSTART;TZID=Europe/London:20250130T193000
DTEND;TZID=Europe/London:20250130T220000
DTSTAMP:20260423T044540
CREATED:20240726T145703Z
LAST-MODIFIED:20240822T183021Z
UID:427-1738265400-1738274400@southwickcameraclub.co.uk
SUMMARY:Open PDI Competition
DESCRIPTION:Round 3 of the Open PDI competition will be held via ZOOM. \nOur judge this evening will be Sally Sallett ARPS CPAGB AFIAP BPE3*.
URL:https://southwickcameraclub.co.uk/event/open-pdi-competition-3/
LOCATION:ZOOM
CATEGORIES:COMPETITIONS
END:VEVENT
END:VCALENDAR