BEGIN:VCALENDAR
VERSION:2.0
PRODID:-//Southwick Camera Club - ECPv6.15.20//NONSGML v1.0//EN
CALSCALE:GREGORIAN
METHOD:PUBLISH
X-ORIGINAL-URL:https://southwickcameraclub.co.uk
X-WR-CALDESC:Events for Southwick Camera Club
REFRESH-INTERVAL;VALUE=DURATION:PT1H
X-Robots-Tag:noindex
X-PUBLISHED-TTL:PT1H
BEGIN:VTIMEZONE
TZID:Europe/London
BEGIN:DAYLIGHT
TZOFFSETFROM:+0000
TZOFFSETTO:+0100
TZNAME:BST
DTSTART:20240331T010000
END:DAYLIGHT
BEGIN:STANDARD
TZOFFSETFROM:+0100
TZOFFSETTO:+0000
TZNAME:GMT
DTSTART:20241027T010000
END:STANDARD
BEGIN:DAYLIGHT
TZOFFSETFROM:+0000
TZOFFSETTO:+0100
TZNAME:BST
DTSTART:20250330T010000
END:DAYLIGHT
BEGIN:STANDARD
TZOFFSETFROM:+0100
TZOFFSETTO:+0000
TZNAME:GMT
DTSTART:20251026T010000
END:STANDARD
BEGIN:DAYLIGHT
TZOFFSETFROM:+0000
TZOFFSETTO:+0100
TZNAME:BST
DTSTART:20260329T010000
END:DAYLIGHT
BEGIN:STANDARD
TZOFFSETFROM:+0100
TZOFFSETTO:+0000
TZNAME:GMT
DTSTART:20261025T010000
END:STANDARD
END:VTIMEZONE
BEGIN:VEVENT
DTSTART;TZID=Europe/London:20250529T193000
DTEND;TZID=Europe/London:20250529T220000
DTSTAMP:20260422T214623
CREATED:20240730T200317Z
LAST-MODIFIED:20240730T200317Z
UID:525-1748547000-1748556000@southwickcameraclub.co.uk
SUMMARY:PDI of the Year
DESCRIPTION:Select two images from those entered into PDI competitions this season for the Annual PDI of the Year competition. \nYou may amend the image files following judges comments if you wish. \nOur judge this evening is David Eastley LRPS.
URL:https://southwickcameraclub.co.uk/event/pdi-of-the-year/
LOCATION:Southwick Community Centre\, Deall Room\, Southwick\, West Sussex\, BN42 4TE\, United Kingdom
CATEGORIES:COMPETITIONS
END:VEVENT
END:VCALENDAR