BEGIN:VCALENDAR
VERSION:2.0
PRODID:-//Southwick Camera Club - ECPv6.15.20//NONSGML v1.0//EN
CALSCALE:GREGORIAN
METHOD:PUBLISH
X-WR-CALNAME:Southwick Camera Club
X-ORIGINAL-URL:https://southwickcameraclub.co.uk
X-WR-CALDESC:Events for Southwick Camera Club
REFRESH-INTERVAL;VALUE=DURATION:PT1H
X-Robots-Tag:noindex
X-PUBLISHED-TTL:PT1H
BEGIN:VTIMEZONE
TZID:Europe/London
BEGIN:DAYLIGHT
TZOFFSETFROM:+0000
TZOFFSETTO:+0100
TZNAME:BST
DTSTART:20240331T010000
END:DAYLIGHT
BEGIN:STANDARD
TZOFFSETFROM:+0100
TZOFFSETTO:+0000
TZNAME:GMT
DTSTART:20241027T010000
END:STANDARD
BEGIN:DAYLIGHT
TZOFFSETFROM:+0000
TZOFFSETTO:+0100
TZNAME:BST
DTSTART:20250330T010000
END:DAYLIGHT
BEGIN:STANDARD
TZOFFSETFROM:+0100
TZOFFSETTO:+0000
TZNAME:GMT
DTSTART:20251026T010000
END:STANDARD
BEGIN:DAYLIGHT
TZOFFSETFROM:+0000
TZOFFSETTO:+0100
TZNAME:BST
DTSTART:20260329T010000
END:DAYLIGHT
BEGIN:STANDARD
TZOFFSETFROM:+0100
TZOFFSETTO:+0000
TZNAME:GMT
DTSTART:20261025T010000
END:STANDARD
END:VTIMEZONE
BEGIN:VEVENT
DTSTART;TZID=Europe/London:20250906T100000
DTEND;TZID=Europe/London:20250906T160000
DTSTAMP:20260421T203803
CREATED:20250620T150312Z
LAST-MODIFIED:20250717T065308Z
UID:2284-1757152800-1757174400@southwickcameraclub.co.uk
SUMMARY:Holmbush Exhibition
DESCRIPTION:Southwick Camera Club will again be exhibiting a selection of club members prints in the concourse between Tesco’s and M&S at the Holmbush Shopping Centre\, Shoreham during the day between 10am and 4pm. \nThis is a free event. \nClub members are  eager to talk about photography with visitors\, so do come and find out more about the club\, or just come and enjoy our displayed work. \nYou don’t have to have specialist camera equipment\, as members have had success with mobile phone images in the past. \n 
URL:https://southwickcameraclub.co.uk/event/holmbush-exhibition-2/
LOCATION:Holmbush Centre\, Upper Shoreham Road\, Shoreham By Sea\, West Sussex\, BN43 6TD\, United Kingdom
CATEGORIES:PROMOTIONAL
ATTACH;FMTTYPE=image/jpeg:https://southwickcameraclub.co.uk/wp-content/uploads/2025/07/Exhibition-at-Holmbush.jpg
END:VEVENT
BEGIN:VEVENT
DTSTART;TZID=Europe/London:20250809T100000
DTEND;TZID=Europe/London:20250809T150000
DTSTAMP:20260421T203803
CREATED:20250701T161246Z
LAST-MODIFIED:20250701T161246Z
UID:2300-1754733600-1754751600@southwickcameraclub.co.uk
SUMMARY:Southwick Community Fair & Open Day
DESCRIPTION:Southwick Camera Club will be showcasing some club members work at the Community Centre as part of the Centre’s 80th Anniversary celebrations on Saturday 9th August 2025. \nThis is a free event so come and see what local clubs\, societies and associations have to offer. \nSee link below  to the Centre’s website for further information.
URL:https://southwickcameraclub.co.uk/event/southwick-community-fair-open-day/
LOCATION:Southwick Community Centre\, Deall Room\, Southwick\, West Sussex\, BN42 4TE\, United Kingdom
CATEGORIES:PROMOTIONAL
END:VEVENT
BEGIN:VEVENT
DTSTART;TZID=Europe/London:20250608T110000
DTEND;TZID=Europe/London:20250608T160000
DTSTAMP:20260421T203803
CREATED:20250528T102529Z
LAST-MODIFIED:20250528T102529Z
UID:2131-1749380400-1749398400@southwickcameraclub.co.uk
SUMMARY:Adur Lions Family Fun Day
DESCRIPTION:Southwick Camera Club will once again be exhibiting club members prints at the Adur East Lions Family Fun Day this year at Buckingham Park\, Shoreham By Sea. \nThe public event run by Adur Lions\, is open from 11am to 4pm and entrance is free. \nCar parking is available on site for £3. \nMembers of the public are welcome to view the prints and discuss photography in general along with benefits of Club membership with experienced club members\, who will be on hand during the day. \nMembers should bring their prints along at 9am in the day and help putting up and taking down the club marquee will be appreciated.
URL:https://southwickcameraclub.co.uk/event/adur-lions-family-fun-day/
LOCATION:West Sussex
CATEGORIES:PROMOTIONAL
END:VEVENT
END:VCALENDAR