BEGIN:VCALENDAR
VERSION:2.0
PRODID:-//Southwick Camera Club - ECPv6.15.20//NONSGML v1.0//EN
CALSCALE:GREGORIAN
METHOD:PUBLISH
X-WR-CALNAME:Southwick Camera Club
X-ORIGINAL-URL:https://southwickcameraclub.co.uk
X-WR-CALDESC:Events for Southwick Camera Club
REFRESH-INTERVAL;VALUE=DURATION:PT1H
X-Robots-Tag:noindex
X-PUBLISHED-TTL:PT1H
BEGIN:VTIMEZONE
TZID:Europe/London
BEGIN:DAYLIGHT
TZOFFSETFROM:+0000
TZOFFSETTO:+0100
TZNAME:BST
DTSTART:20250330T010000
END:DAYLIGHT
BEGIN:STANDARD
TZOFFSETFROM:+0100
TZOFFSETTO:+0000
TZNAME:GMT
DTSTART:20251026T010000
END:STANDARD
BEGIN:DAYLIGHT
TZOFFSETFROM:+0000
TZOFFSETTO:+0100
TZNAME:BST
DTSTART:20260329T010000
END:DAYLIGHT
BEGIN:STANDARD
TZOFFSETFROM:+0100
TZOFFSETTO:+0000
TZNAME:GMT
DTSTART:20261025T010000
END:STANDARD
BEGIN:DAYLIGHT
TZOFFSETFROM:+0000
TZOFFSETTO:+0100
TZNAME:BST
DTSTART:20270328T010000
END:DAYLIGHT
BEGIN:STANDARD
TZOFFSETFROM:+0100
TZOFFSETTO:+0000
TZNAME:GMT
DTSTART:20271031T010000
END:STANDARD
END:VTIMEZONE
BEGIN:VEVENT
DTSTART;TZID=Europe/London:20260108T193000
DTEND;TZID=Europe/London:20260108T220000
DTSTAMP:20260425T181522
CREATED:20250825T085416Z
LAST-MODIFIED:20251219T081011Z
UID:2528-1767900600-1767909600@southwickcameraclub.co.uk
SUMMARY:PDI Set Subject Competition (R2) - "People or Person"
DESCRIPTION:Ken Scott ARPS\, APAGB\, HON FRPS\, will be welcomed back to Southwick to judge round 2 of this season’s Set Subject competition “People or Person”. \nAs usual\, there are no definitions\, so it’s up to you to impress Ken this time with your entries\, and admire those of other club members. \nThe submission deadline is Saturday 3rd January 2026.
URL:https://southwickcameraclub.co.uk/event/pdi-set-subject-competition-r2-people-or-person/
LOCATION:Southwick Community Centre\, Deall Room\, Southwick\, West Sussex\, BN42 4TE\, United Kingdom
CATEGORIES:COMPETITIONS
END:VEVENT
BEGIN:VEVENT
DTSTART;TZID=Europe/London:20260115T193000
DTEND;TZID=Europe/London:20260115T220000
DTSTAMP:20260425T181522
CREATED:20250825T090440Z
LAST-MODIFIED:20250825T090440Z
UID:2530-1768505400-1768514400@southwickcameraclub.co.uk
SUMMARY:"Depth of Field" presentation by Wendy Ball
DESCRIPTION:Tonight Wendy Ball from Steyning Camera Club will be returning to Southwick with her new presentation “Depth of Field”. \nBased on previous talks and presentations from Wendy\, you can expect to see some stunning nature images and hear the stories behind them and how they were captured. \nAn evening not to be missed.
URL:https://southwickcameraclub.co.uk/event/depth-of-field-presentation-by-wendy-ball/
LOCATION:Southwick Community Centre\, Deall Room\, Southwick\, West Sussex\, BN42 4TE\, United Kingdom
CATEGORIES:SPEAKERS
END:VEVENT
BEGIN:VEVENT
DTSTART;TZID=Europe/London:20260122T193000
DTEND;TZID=Europe/London:20260122T220000
DTSTAMP:20260425T181522
CREATED:20250826T075922Z
LAST-MODIFIED:20250826T075946Z
UID:2540-1769110200-1769119200@southwickcameraclub.co.uk
SUMMARY:Interclub Competition with Steyning Camera Club
DESCRIPTION:Tonight Steyning Camera Club will be visiting the Deall Room for another interclub competition\, with Paul O’Toole ARPS judging the entries. \nA competitive evening against our local rivals\, but in a friendly atmosphere. \nCome along to see the best images from both clubs in this PDI competition.
URL:https://southwickcameraclub.co.uk/event/interclub-competition-with-steyning-camera-club/
LOCATION:Southwick Community Centre\, Deall Room\, Southwick\, West Sussex\, BN42 4TE\, United Kingdom
CATEGORIES:EXTERNAL COMPETITIONS
END:VEVENT
BEGIN:VEVENT
DTSTART;TZID=Europe/London:20260128T103000
DTEND;TZID=Europe/London:20260128T133000
DTSTAMP:20260425T181522
CREATED:20251018T084025Z
LAST-MODIFIED:20260109T161212Z
UID:2784-1769596200-1769607000@southwickcameraclub.co.uk
SUMMARY:Coffee Morning - Emmaus
DESCRIPTION:Our first coffee morning of the New Year will be at Emmaus\, Portslade on Wednesday 28th January. \nEnjoy a cuppa with fellow club members.
URL:https://southwickcameraclub.co.uk/event/coffee-morning-emmaus/
LOCATION:Emmaus\, Drove Road\, Portslade\, BN41 2PA
CATEGORIES:COFFEE MORNING
ATTACH;FMTTYPE=image/jpeg:https://southwickcameraclub.co.uk/wp-content/uploads/2024/08/pexels-chevanon-312418-e1724341715652.jpg
END:VEVENT
BEGIN:VEVENT
DTSTART;TZID=Europe/London:20260129T193000
DTEND;TZID=Europe/London:20260129T220000
DTSTAMP:20260425T181522
CREATED:20250826T081008Z
LAST-MODIFIED:20260114T103403Z
UID:2544-1769715000-1769724000@southwickcameraclub.co.uk
SUMMARY:No Editing!
DESCRIPTION:Our own Peter Merrick will again be leading one of his popular informal competition evenings for club members to take part in or enjoy. \nThis time it will be a challenge to capture an image correctly in camera or phone\, no post processing of the image will be permitted other than cropping\, resizing and adding a keyline. \nTaking the image in JPEG rather than RAW may be beneficial. \nIf the original image is taken in RAW\, you may convert it to a JPEG. \nClosing date for entries is Monday 26th January.
URL:https://southwickcameraclub.co.uk/event/minimal-edit/
LOCATION:Southwick Community Centre\, Deall Room\, Southwick\, West Sussex\, BN42 4TE\, United Kingdom
CATEGORIES:CLUB NIGHT
END:VEVENT
BEGIN:VEVENT
DTSTART;TZID=Europe/London:20260130T190000
DTEND;TZID=Europe/London:20260130T213000
DTSTAMP:20260425T181522
CREATED:20251212T101853Z
LAST-MODIFIED:20251212T101853Z
UID:3001-1769799600-1769808600@southwickcameraclub.co.uk
SUMMARY:Committee Meeting
DESCRIPTION:The next committee meeting will be held on Friday 30th January with thanks to Jan A.
URL:https://southwickcameraclub.co.uk/event/committee-meeting-10/
CATEGORIES:COMMITTEE MEETING
END:VEVENT
END:VCALENDAR